BEGIN:VCALENDAR
VERSION:2.0
PRODID:-//KG Schmedter Grieläächer - ECPv6.15.20//NONSGML v1.0//EN
CALSCALE:GREGORIAN
METHOD:PUBLISH
X-WR-CALNAME:KG Schmedter Grieläächer
X-ORIGINAL-URL:https://www.kg-schmidt.de
X-WR-CALDESC:Veranstaltungen für KG Schmedter Grieläächer
REFRESH-INTERVAL;VALUE=DURATION:PT1H
X-Robots-Tag:noindex
X-PUBLISHED-TTL:PT1H
BEGIN:VTIMEZONE
TZID:Europe/Berlin
BEGIN:DAYLIGHT
TZOFFSETFROM:+0100
TZOFFSETTO:+0200
TZNAME:CEST
DTSTART:20250330T010000
END:DAYLIGHT
BEGIN:STANDARD
TZOFFSETFROM:+0200
TZOFFSETTO:+0100
TZNAME:CET
DTSTART:20251026T010000
END:STANDARD
BEGIN:DAYLIGHT
TZOFFSETFROM:+0100
TZOFFSETTO:+0200
TZNAME:CEST
DTSTART:20260329T010000
END:DAYLIGHT
BEGIN:STANDARD
TZOFFSETFROM:+0200
TZOFFSETTO:+0100
TZNAME:CET
DTSTART:20261025T010000
END:STANDARD
BEGIN:DAYLIGHT
TZOFFSETFROM:+0100
TZOFFSETTO:+0200
TZNAME:CEST
DTSTART:20270328T010000
END:DAYLIGHT
BEGIN:STANDARD
TZOFFSETFROM:+0200
TZOFFSETTO:+0100
TZNAME:CET
DTSTART:20271031T010000
END:STANDARD
END:VTIMEZONE
BEGIN:VEVENT
DTSTART;TZID=Europe/Berlin:20261204T170000
DTEND;TZID=Europe/Berlin:20261204T190000
DTSTAMP:20260423T004750
CREATED:20260422T122138Z
LAST-MODIFIED:20260422T122206Z
UID:3000-1796403600-1796410800@www.kg-schmidt.de
SUMMARY:Nikolaus Feier
DESCRIPTION:NUR für aktive Kinder\, Tänzerinnen und Tänzer sowie für den Vorstand. \nZur Info: Dieses Event ist so geplant\, dass alle Kinder die Tänze der verschiedenen Gruppen sehen können. Besonders die Jüngeren haben so die Möglichkeit\, auch die Auftritte der älteren Gruppen mitzuerleben. Auch die No Limits und das Herrengedeck werden an diesem Tag tanzen. \nAußerdem möchten wir die Gelegenheit nutzen\, um in entspannter Atmosphäre gemeinsame Fotos von allen Gruppen zu machen. So können wir die Bilder bereits im Vorfeld aufnehmen und vermeiden zusätzlichen Zeitdruck vor der Sessionseröffnung.
URL:https://www.kg-schmidt.de/auftritte-kg-schmidt/nikolaus-feier/
CATEGORIES:Aktivengarde,Herrengedeck,Jugendgarde,Juniorengarde,Kleine Garde,Mariechen Leni,Minis,NoLimits,Vorstand
ATTACH;FMTTYPE=image/jpeg:https://www.kg-schmidt.de/wp-content/uploads/kg-schmidt-termine.jpg
END:VEVENT
END:VCALENDAR