BEGIN:VCALENDAR
VERSION:2.0
PRODID:-//KG Schmedter Grieläächer - ECPv6.15.20//NONSGML v1.0//EN
CALSCALE:GREGORIAN
METHOD:PUBLISH
X-WR-CALNAME:KG Schmedter Grieläächer
X-ORIGINAL-URL:https://www.kg-schmidt.de
X-WR-CALDESC:Veranstaltungen für KG Schmedter Grieläächer
REFRESH-INTERVAL;VALUE=DURATION:PT1H
X-Robots-Tag:noindex
X-PUBLISHED-TTL:PT1H
BEGIN:VTIMEZONE
TZID:Europe/Berlin
BEGIN:DAYLIGHT
TZOFFSETFROM:+0100
TZOFFSETTO:+0200
TZNAME:CEST
DTSTART:20260329T010000
END:DAYLIGHT
BEGIN:STANDARD
TZOFFSETFROM:+0200
TZOFFSETTO:+0100
TZNAME:CET
DTSTART:20261025T010000
END:STANDARD
BEGIN:DAYLIGHT
TZOFFSETFROM:+0100
TZOFFSETTO:+0200
TZNAME:CEST
DTSTART:20270328T010000
END:DAYLIGHT
BEGIN:STANDARD
TZOFFSETFROM:+0200
TZOFFSETTO:+0100
TZNAME:CET
DTSTART:20271031T010000
END:STANDARD
BEGIN:DAYLIGHT
TZOFFSETFROM:+0100
TZOFFSETTO:+0200
TZNAME:CEST
DTSTART:20280326T010000
END:DAYLIGHT
BEGIN:STANDARD
TZOFFSETFROM:+0200
TZOFFSETTO:+0100
TZNAME:CET
DTSTART:20281029T010000
END:STANDARD
END:VTIMEZONE
BEGIN:VEVENT
DTSTART;TZID=Europe/Berlin:20270108T190000
DTEND;TZID=Europe/Berlin:20270108T230000
DTSTAMP:20260423T005513
CREATED:20260422T113403Z
LAST-MODIFIED:20260422T113543Z
UID:2995-1799434800-1799449200@www.kg-schmidt.de
SUMMARY:Fun Turnier der NoLimits
DESCRIPTION:Weitere Informationen folgen.
URL:https://www.kg-schmidt.de/auftritte-kg-schmidt/fun-turnier-der-nolimits/
LOCATION:Schützenhof Schmidt\, Monschauer Str. 14\, Nideggen\, 52385\, Germany
CATEGORIES:NoLimits,Vorstand
ATTACH;FMTTYPE=image/jpeg:https://www.kg-schmidt.de/wp-content/uploads/nolimits-kg-schmidt-2026-2025-3.jpeg
END:VEVENT
END:VCALENDAR